BEGIN:VCALENDAR
VERSION:2.0
PRODID:-//BACHS - ECPv5.16.3.1//NONSGML v1.0//EN
CALSCALE:GREGORIAN
METHOD:PUBLISH
X-WR-CALNAME:BACHS
X-ORIGINAL-URL:https://www.bachs.co.uk
X-WR-CALDESC:Events for BACHS
BEGIN:VTIMEZONE
TZID:UTC
BEGIN:STANDARD
TZOFFSETFROM:+0000
TZOFFSETTO:+0000
TZNAME:UTC
DTSTART:20250101T000000
END:STANDARD
END:VTIMEZONE
BEGIN:VEVENT
DTSTART;TZID=UTC:20250906T140000
DTEND;TZID=UTC:20250906T160000
DTSTAMP:20260425T173551
CREATED:20250607T145038Z
LAST-MODIFIED:20250614T134933Z
UID:749-1757167200-1757174400@www.bachs.co.uk
SUMMARY:78th Annual Show at Clarkston Halls  2025
DESCRIPTION:2024 produced another excellent Show\, well supported by members and friends and we hope we can continue this trend. \nEntries were up 20% and also had an excellent attendance on the day. \nNew layout\, new schedule and improved tearoom will all enhance the experience. \nIf you would like to exhibit\, but not sure how\, please get in touch through the website. \nDoors open at 2.00pm\, prizes presented at 3.30pm. Entry only £2.00. kids go free. \nTearoom\, tombola\, raffle\, plant stall & flower auction.
URL:https://www.bachs.co.uk/event/78th-annual-show-at-clarkston-halls-2025/
LOCATION:Clarkston Hall G76 8NE\, Clarkston Hall\, Clarkston Road\, Clarkston\, East Renfrewshire\, G76 8NE\, United Kingdom
CATEGORIES:Event
ATTACH;FMTTYPE=image/jpeg:https://www.bachs.co.uk/wp-content/uploads/2024/04/fergus-1.jpg
ORGANIZER;CN="Fergus%20Cumming":MAILTO:fergus.cumming@btinternet.com
END:VEVENT
END:VCALENDAR