BEGIN:VCALENDAR
VERSION:2.0
PRODID:-//BACHS - ECPv5.16.3.1//NONSGML v1.0//EN
CALSCALE:GREGORIAN
METHOD:PUBLISH
X-WR-CALNAME:BACHS
X-ORIGINAL-URL:https://www.bachs.co.uk
X-WR-CALDESC:Events for BACHS
BEGIN:VTIMEZONE
TZID:UTC
BEGIN:STANDARD
TZOFFSETFROM:+0000
TZOFFSETTO:+0000
TZNAME:UTC
DTSTART:20260101T000000
END:STANDARD
END:VTIMEZONE
BEGIN:VEVENT
DTSTART;TZID=UTC:20260115T193000
DTEND;TZID=UTC:20260115T220000
DTSTAMP:20260425T172410
CREATED:20250608T151249Z
LAST-MODIFIED:20251117T211919Z
UID:918-1768505400-1768514400@www.bachs.co.uk
SUMMARY:The Cut Flower Garden by Theresa Talbot - following on from our short AGM
DESCRIPTION:We’re delighted to welcome Theresa Talbot back to Busby & Clarkston Horticultural Society for our first meeting of 2026. \nTheresa is a Glasgow based gardener\, writer & broadcaster and the founder of Willow & Herb. \nThis highly regarded floristry business specialises in fabulous seasonal arrangements for weddings\, events and eco-friendly farewell flowers. \nInterestingly\, many of the flowers used are from Theresa’s own cutting garden in Busby. \nTheresa will guide us through how to create a productive cut-flower garden: from sowing and growing to arranging and enjoying your own home grown blooms. \nExpect tips on varieties you might not have considered\, simple methods that work in real gardens and plenty of inspiration for the year ahead.
URL:https://www.bachs.co.uk/event/the-cut-flower-garden-by-theresa-talbot-following-our-short-agm/
LOCATION:Clarkston Hall G76 8NE\, Clarkston Hall\, Clarkston Road\, Clarkston\, East Renfrewshire\, G76 8NE\, United Kingdom
CATEGORIES:Talk
ATTACH;FMTTYPE=image/webp:https://www.bachs.co.uk/wp-content/uploads/2024/05/theresa.webp
ORGANIZER;CN="Fergus%20Cumming":MAILTO:fergus.cumming@btinternet.com
END:VEVENT
END:VCALENDAR